BEGIN:VCALENDAR
VERSION:2.0
PRODID:-//ical.marudot.com//iCal Event Maker
X-WR-CALNAME:Présentation publique du programme 2026
NAME:Présentation publique du programme 2026
CALSCALE:GREGORIAN
BEGIN:VTIMEZONE
TZID:Europe/Berlin
LAST-MODIFIED:20250410T142247Z
TZURL:https://www.tzurl.org/zoneinfo-outlook/Europe/Berlin
X-LIC-LOCATION:Europe/Berlin
BEGIN:DAYLIGHT
TZNAME:CEST
TZOFFSETFROM:+0100
TZOFFSETTO:+0200
DTSTART:19700329T020000
RRULE:FREQ=YEARLY;BYMONTH=3;BYDAY=-1SU
END:DAYLIGHT
BEGIN:STANDARD
TZNAME:CET
TZOFFSETFROM:+0200
TZOFFSETTO:+0100
DTSTART:19701025T030000
RRULE:FREQ=YEARLY;BYMONTH=10;BYDAY=-1SU
END:STANDARD
END:VTIMEZONE
BEGIN:VEVENT
DTSTAMP:20260304T120734Z
UID:1772625994151-48357@ical.marudot.com
DTSTART;TZID=Europe/Berlin:20260331T183000
DTEND;TZID=Europe/Berlin:20260331T203000
SUMMARY:Présentation publique du programme 2026
DESCRIPTION:Programme de la soirée :\n– 18h30 accueil\n– 19h00 présentation du programme\n– 19h45 apéritif offert
LOCATION:Usine à Gaz Rue César Soulié 1\, 1260 Nyon\, Suisse
BEGIN:VALARM
ACTION:DISPLAY
DESCRIPTION:Présentation publique du programme 2026
TRIGGER:-P1D
END:VALARM
END:VEVENT
END:VCALENDAR